BEGIN:VCALENDAR
VERSION:2.0
PRODID:-//hacksw/handcal//NONSGML v1.0//EN
CALSCALE:GREGORIAN
BEGIN:VEVENT
DTEND:20260606T230000Z
UID:69e5bb25babe4
DTSTAMP:20260420T063533Z
LOCATION:BL1 1AS Bolton
DESCRIPTION:
URL;VALUE=URI:
SUMMARY:IRONMAN 70.3 Bolton
DTSTART:20260606T230000Z
END:VEVENT
END:VCALENDAR
An internal server error occurred.