BEGIN:VCALENDAR
VERSION:2.0
PRODID:-//hacksw/handcal//NONSGML v1.0//EN
CALSCALE:GREGORIAN
BEGIN:VEVENT
DTEND:20260522T230000Z
UID:69e52aeaaf097
DTSTAMP:20260419T202010Z
LOCATION:5020 Salzburg 
DESCRIPTION:
URL;VALUE=URI:
SUMMARY:Mozart 100 by UTMB
DTSTART:20260522T230000Z
END:VEVENT
END:VCALENDAR
An internal server error occurred.