BEGIN:VCALENDAR
VERSION:2.0
PRODID:-//hacksw/handcal//NONSGML v1.0//EN
CALSCALE:GREGORIAN
BEGIN:VEVENT
DTEND:20260620T230000Z
UID:69e59b57df1c2
DTSTAMP:20260420T041951Z
LOCATION:2491 Neufeld

DESCRIPTION:
URL;VALUE=URI:
SUMMARY:Neufeldersee Triathlon
DTSTART:20260619T230000Z
END:VEVENT
END:VCALENDAR
An internal server error occurred.