BEGIN:VCALENDAR
VERSION:2.0
PRODID:-//hacksw/handcal//NONSGML v1.0//EN
CALSCALE:GREGORIAN
BEGIN:VEVENT
DTEND:20260530T230000Z
UID:69e52aea55e62
DTSTAMP:20260419T202010Z
LOCATION:2108 Couvet/NE
DESCRIPTION:
URL;VALUE=URI:
SUMMARY:Swiss Canyon Trail
DTSTART:20260528T230000Z
END:VEVENT
END:VCALENDAR
An internal server error occurred.