BEGIN:VCALENDAR
VERSION:2.0
PRODID:-//hacksw/handcal//NONSGML v1.0//EN
CALSCALE:GREGORIAN
BEGIN:VEVENT
DTEND:20260516T230000Z
UID:69e5bb2577c62
DTSTAMP:20260420T063533Z
LOCATION:93059 Regensburg
DESCRIPTION:INTERNATIONAL - Deutschland

URL;VALUE=URI:
SUMMARY:Regensburg Marathon
DTSTART:20260516T230000Z
END:VEVENT
END:VCALENDAR
An internal server error occurred.