BEGIN:VCALENDAR
VERSION:2.0
PRODID:-//hacksw/handcal//NONSGML v1.0//EN
CALSCALE:GREGORIAN
BEGIN:VEVENT
DTEND:20260515T230000Z
UID:69e5bb2207a07
DTSTAMP:20260420T063530Z
LOCATION:9020 Klagenfurt
DESCRIPTION:
URL;VALUE=URI:
SUMMARY:Kirschblütenlauf
DTSTART:20260515T230000Z
END:VEVENT
END:VCALENDAR
An internal server error occurred.