BEGIN:VCALENDAR
VERSION:2.0
PRODID:-//hacksw/handcal//NONSGML v1.0//EN
CALSCALE:GREGORIAN
BEGIN:VEVENT
DTEND:20260529T230000Z
UID:69e5bb25350e4
DTSTAMP:20260420T063533Z
LOCATION:6322 Kirchbichl
DESCRIPTION:
URL;VALUE=URI:
SUMMARY:Triathlon Kirchbichl
DTSTART:20260529T230000Z
END:VEVENT
END:VCALENDAR
An internal server error occurred.