BEGIN:VCALENDAR
VERSION:2.0
PRODID:-//hacksw/handcal//NONSGML v1.0//EN
CALSCALE:GREGORIAN
BEGIN:VEVENT
DTEND:20260529T230000Z
UID:69e99541c7ef3
DTSTAMP:20260423T044257Z
LOCATION:2721 Bad Fischau-Brunn
DESCRIPTION:
URL;VALUE=URI:
SUMMARY:Sommernachtslauf Bad Fischau
DTSTART:20260529T230000Z
END:VEVENT
END:VCALENDAR
An internal server error occurred.