BEGIN:VCALENDAR
VERSION:2.0
PRODID:-//hacksw/handcal//NONSGML v1.0//EN
CALSCALE:GREGORIAN
BEGIN:VEVENT
DTEND:20260515T230000Z
UID:69e58cf35135e
DTSTAMP:20260420T031827Z
LOCATION:1745 Luxemburg
DESCRIPTION:
URL;VALUE=URI:
SUMMARY:Night Marathon Luxemburg
DTSTART:20260515T230000Z
END:VEVENT
END:VCALENDAR
An internal server error occurred.