BEGIN:VCALENDAR
VERSION:2.0
PRODID:-//hacksw/handcal//NONSGML v1.0//EN
CALSCALE:GREGORIAN
BEGIN:VEVENT
DTEND:20260605T230000Z
UID:69e59b59e06f6
DTSTAMP:20260420T041953Z
LOCATION:4153 Nebelberg
DESCRIPTION:
URL;VALUE=URI:
SUMMARY:Haze Dirt Run
DTSTART:20260605T230000Z
END:VEVENT
END:VCALENDAR
An internal server error occurred.