BEGIN:VCALENDAR
VERSION:2.0
PRODID:-//hacksw/handcal//NONSGML v1.0//EN
CALSCALE:GREGORIAN
BEGIN:VEVENT
DTEND:20260605T230000Z
UID:69e59b5717364
DTSTAMP:20260420T041951Z
LOCATION:5761 Maria Alm
DESCRIPTION:
URL;VALUE=URI:
SUMMARY:Hochkönigman
DTSTART:20260604T230000Z
END:VEVENT
END:VCALENDAR
An internal server error occurred.