BEGIN:VCALENDAR
VERSION:2.0
PRODID:-//hacksw/handcal//NONSGML v1.0//EN
CALSCALE:GREGORIAN
BEGIN:VEVENT
DTEND:20260603T230000Z
UID:69e533395e555
DTSTAMP:20260419T205537Z
LOCATION:1220 Wien
DESCRIPTION:
URL;VALUE=URI:
SUMMARY:Seestadt Triathlon Vienna
DTSTART:20260602T230000Z
END:VEVENT
END:VCALENDAR
An internal server error occurred.