BEGIN:VCALENDAR
VERSION:2.0
PRODID:-//hacksw/handcal//NONSGML v1.0//EN
CALSCALE:GREGORIAN
BEGIN:VEVENT
DTEND:20260530T230000Z
UID:69e81223ee206
DTSTAMP:20260422T011115Z
LOCATION:69242 Kraichgau

DESCRIPTION:
URL;VALUE=URI:
SUMMARY:IRONMAN 70.3 Kraichgau
DTSTART:20260530T230000Z
END:VEVENT
END:VCALENDAR
An internal server error occurred.