BEGIN:VCALENDAR
VERSION:2.0
PRODID:-//hacksw/handcal//NONSGML v1.0//EN
CALSCALE:GREGORIAN
BEGIN:VEVENT
DTEND:20260724T230000Z
UID:69ea85fe66509
DTSTAMP:20260423T215006Z
LOCATION:68165 Mannheim
DESCRIPTION:
URL;VALUE=URI:
SUMMARY:schauinsland Muddy Angel Run Mannheim
DTSTART:20260724T230000Z
END:VEVENT
END:VCALENDAR
An internal server error occurred.