BEGIN:VCALENDAR
VERSION:2.0
PRODID:-//hacksw/handcal//NONSGML v1.0//EN
CALSCALE:GREGORIAN
BEGIN:VEVENT
DTEND:20260717T230000Z
UID:69e987aed7522
DTSTAMP:20260423T034502Z
LOCATION:10318 Karlshorst/Berlin
DESCRIPTION:
URL;VALUE=URI:
SUMMARY:schauinsland Muddy Angel Run Berlin
DTSTART:20260717T230000Z
END:VEVENT
END:VCALENDAR
An internal server error occurred.