BEGIN:VCALENDAR
VERSION:2.0
PRODID:-//hacksw/handcal//NONSGML v1.0//EN
CALSCALE:GREGORIAN
BEGIN:VEVENT
DTEND:20260703T230000Z
UID:69eae9822eff7
DTSTAMP:20260424T045442Z
LOCATION:8194 Hüntwangen/Zürich
DESCRIPTION:
URL;VALUE=URI:
SUMMARY:schauinsland Muddy Angel Run Zürich
DTSTART:20260703T230000Z
END:VEVENT
END:VCALENDAR
An internal server error occurred.