BEGIN:VCALENDAR
VERSION:2.0
PRODID:-//hacksw/handcal//NONSGML v1.0//EN
CALSCALE:GREGORIAN
BEGIN:VEVENT
DTEND:20260530T230000Z
UID:69e5f19d60927
DTSTAMP:20260420T102757Z
LOCATION:3100 St. Pölten
DESCRIPTION:
URL;VALUE=URI:
SUMMARY:Challenge St. Pölten
DTSTART:20260530T230000Z
END:VEVENT
END:VCALENDAR
An internal server error occurred.