BEGIN:VCALENDAR
VERSION:2.0
PRODID:-//hacksw/handcal//NONSGML v1.0//EN
CALSCALE:GREGORIAN
BEGIN:VEVENT
DTEND:20260530T230000Z
UID:69e54fab1db6d
DTSTAMP:20260419T225659Z
LOCATION:6020 Innsbruck
DESCRIPTION:
URL;VALUE=URI:
SUMMARY:Stadtlauf Innsbruck
DTSTART:20260530T230000Z
END:VEVENT
END:VCALENDAR
An internal server error occurred.