BEGIN:VCALENDAR
VERSION:2.0
PRODID:-//hacksw/handcal//NONSGML v1.0//EN
CALSCALE:GREGORIAN
BEGIN:VEVENT
DTEND:20260515T230000Z
UID:69e5697266ff2
DTSTAMP:20260420T004658Z
LOCATION:5620 Schwarzach im Pongau
DESCRIPTION:
URL;VALUE=URI:
SUMMARY:Schwarzach Trail
DTSTART:20260515T230000Z
END:VEVENT
END:VCALENDAR
An internal server error occurred.