BEGIN:VCALENDAR
VERSION:2.0
PRODID:-//hacksw/handcal//NONSGML v1.0//EN
CALSCALE:GREGORIAN
BEGIN:VEVENT
DTEND:20260529T230000Z
UID:69e58cf33ac21
DTSTAMP:20260420T031827Z
LOCATION:8740 Zeltweg
DESCRIPTION:
URL;VALUE=URI:
SUMMARY:Murtal24 LadiesNightRun
DTSTART:20260529T230000Z
END:VEVENT
END:VCALENDAR
An internal server error occurred.