BEGIN:VCALENDAR
VERSION:2.0
PRODID:-//hacksw/handcal//NONSGML v1.0//EN
CALSCALE:GREGORIAN
BEGIN:VEVENT
DTEND:20260530T230000Z
UID:69e59b524168c
DTSTAMP:20260420T041946Z
LOCATION:8750 Judenburg
DESCRIPTION:
URL;VALUE=URI:
SUMMARY:Murtal24
DTSTART:20260529T230000Z
END:VEVENT
END:VCALENDAR
An internal server error occurred.