BEGIN:VCALENDAR
VERSION:2.0
PRODID:-//hacksw/handcal//NONSGML v1.0//EN
CALSCALE:GREGORIAN
BEGIN:VEVENT
DTEND:20260518T230000Z
UID:69e9cfd895a3a
DTSTAMP:20260423T085256Z
LOCATION:86150 Augsburg
DESCRIPTION: 

URL;VALUE=URI:
SUMMARY:M-net Firmenlauf Augsburg
DTSTART:20260518T230000Z
END:VEVENT
END:VCALENDAR
An internal server error occurred.