BEGIN:VCALENDAR
VERSION:2.0
PRODID:-//hacksw/handcal//NONSGML v1.0//EN
CALSCALE:GREGORIAN
BEGIN:VEVENT
DTEND:20260523T230000Z
UID:69e4f69749ed1
DTSTAMP:20260419T163655Z
LOCATION:2630 Ternitz

DESCRIPTION:
URL;VALUE=URI:
SUMMARY:Schwarzataler Triathlon
DTSTART:20260523T230000Z
END:VEVENT
END:VCALENDAR
An internal server error occurred.