BEGIN:VCALENDAR
VERSION:2.0
PRODID:-//hacksw/handcal//NONSGML v1.0//EN
CALSCALE:GREGORIAN
BEGIN:VEVENT
DTEND:20260530T230000Z
UID:69e52aef6e32c
DTSTAMP:20260419T202015Z
LOCATION:7122 Gols
DESCRIPTION:
URL;VALUE=URI:
SUMMARY:Golser Weinbergmarathon
DTSTART:20260530T230000Z
END:VEVENT
END:VCALENDAR
An internal server error occurred.