BEGIN:VCALENDAR
VERSION:2.0
PRODID:-//hacksw/handcal//NONSGML v1.0//EN
CALSCALE:GREGORIAN
BEGIN:VEVENT
DTEND:20260516T230000Z
UID:69e812242715e
DTSTAMP:20260422T011116Z
LOCATION:13080 Aix-en-Provence\, France
DESCRIPTION:
URL;VALUE=URI:
SUMMARY:IRONMAN 70.3 Aix-en-Provence
DTSTART:20260516T230000Z
END:VEVENT
END:VCALENDAR
An internal server error occurred.