BEGIN:VCALENDAR
VERSION:2.0
PRODID:-//hacksw/handcal//NONSGML v1.0//EN
CALSCALE:GREGORIAN
BEGIN:VEVENT
DTEND:20260515T230000Z
UID:69e81217911d5
DTSTAMP:20260422T011103Z
LOCATION:6874 Bizau
DESCRIPTION:
URL;VALUE=URI:
SUMMARY:Bizau Traillauf
DTSTART:20260515T230000Z
END:VEVENT
END:VCALENDAR
An internal server error occurred.