BEGIN:VCALENDAR
VERSION:2.0
PRODID:-//hacksw/handcal//NONSGML v1.0//EN
CALSCALE:GREGORIAN
BEGIN:VEVENT
DTEND:20260522T230000Z
UID:69e5a34be5c1d
DTSTAMP:20260420T045347Z
LOCATION:35509 Lanzarote

DESCRIPTION:
URL;VALUE=URI:
SUMMARY:IRONMAN Lanzarote
DTSTART:20260522T230000Z
END:VEVENT
END:VCALENDAR
An internal server error occurred.