BEGIN:VCALENDAR
VERSION:2.0
PRODID:-//hacksw/handcal//NONSGML v1.0//EN
CALSCALE:GREGORIAN
BEGIN:VEVENT
DTEND:20260423T230000Z
UID:69e70ec61d882
DTSTAMP:20260421T064438Z
LOCATION:7000 Eisenstadt
DESCRIPTION:
URL;VALUE=URI:
SUMMARY:Eisenstadtlauf
DTSTART:20260423T230000Z
END:VEVENT
END:VCALENDAR
An internal server error occurred.