BEGIN:VCALENDAR
VERSION:2.0
PRODID:-//hacksw/handcal//NONSGML v1.0//EN
CALSCALE:GREGORIAN
BEGIN:VEVENT
DTEND:20260516T230000Z
UID:69e56976d93cc
DTSTAMP:20260420T004702Z
LOCATION:73700 Bourg-Saint-Maurice
DESCRIPTION:
URL;VALUE=URI:
SUMMARY:Marathon der Alpen
DTSTART:20260516T230000Z
END:VEVENT
END:VCALENDAR
An internal server error occurred.