BEGIN:VCALENDAR
VERSION:2.0
PRODID:-//hacksw/handcal//NONSGML v1.0//EN
CALSCALE:GREGORIAN
BEGIN:VEVENT
DTEND:20260516T230000Z
UID:69e58cf20e3ad
DTSTAMP:20260420T031826Z
LOCATION:23000 Cap Cana
DESCRIPTION:
URL;VALUE=URI:
SUMMARY:IRONMAN 70.3 Cap Cana
DTSTART:20260516T230000Z
END:VEVENT
END:VCALENDAR
An internal server error occurred.