BEGIN:VCALENDAR
VERSION:2.0
PRODID:-//hacksw/handcal//NONSGML v1.0//EN
CALSCALE:GREGORIAN
BEGIN:VEVENT
DTEND:20260530T230000Z
UID:69e59f9005907
DTSTAMP:20260420T043752Z
LOCATION:56300 Pontivy
DESCRIPTION:
URL;VALUE=URI:
SUMMARY:Marathon Loudeac-Pontivy
DTSTART:20260530T230000Z
END:VEVENT
END:VCALENDAR
An internal server error occurred.