BEGIN:VCALENDAR
VERSION:2.0
PRODID:-//hacksw/handcal//NONSGML v1.0//EN
CALSCALE:GREGORIAN
BEGIN:VEVENT
DTEND:20260425T230000Z
UID:69e86356336c6
DTSTAMP:20260422T065742Z
LOCATION:44000 Nantes
DESCRIPTION:
URL;VALUE=URI:
SUMMARY:Abalone Marathon de Nantes
DTSTART:20260424T230000Z
END:VEVENT
END:VCALENDAR
An internal server error occurred.