BEGIN:VCALENDAR
VERSION:2.0
PRODID:-//hacksw/handcal//NONSGML v1.0//EN
CALSCALE:GREGORIAN
BEGIN:VEVENT
DTEND:20260425T230000Z
UID:69e75d60ec467
DTSTAMP:20260421T122000Z
LOCATION:18375 Wieck a. Darß
DESCRIPTION:
URL;VALUE=URI:
SUMMARY:Darß Marathon
DTSTART:20260424T230000Z
END:VEVENT
END:VCALENDAR
An internal server error occurred.