BEGIN:VCALENDAR
VERSION:2.0
PRODID:-//hacksw/handcal//NONSGML v1.0//EN
CALSCALE:GREGORIAN
BEGIN:VEVENT
DTEND:20260422T230000Z
UID:69e720fa4d507
DTSTAMP:20260421T080218Z
LOCATION:9020 Klagenfurt
DESCRIPTION:
URL;VALUE=URI:
SUMMARY:X-Trail Business Run
DTSTART:20260422T230000Z
END:VEVENT
END:VCALENDAR
An internal server error occurred.