BEGIN:VCALENDAR
VERSION:2.0
PRODID:-//hacksw/handcal//NONSGML v1.0//EN
CALSCALE:GREGORIAN
BEGIN:VEVENT
DTEND:20260919T230000Z
UID:69e73ac3edeb8
DTSTAMP:20260421T095219Z
LOCATION:2732 Würflach
DESCRIPTION:
URL;VALUE=URI:
SUMMARY:Run the Klamm Würflach
DTSTART:20260919T230000Z
END:VEVENT
END:VCALENDAR
An internal server error occurred.