BEGIN:VCALENDAR
VERSION:2.0
PRODID:-//hacksw/handcal//NONSGML v1.0//EN
CALSCALE:GREGORIAN
BEGIN:VEVENT
DTEND:20260829T230000Z
UID:69e65fc384143
DTSTAMP:20260420T181755Z
LOCATION:2851 Krumbach
DESCRIPTION:
URL;VALUE=URI:
SUMMARY:Run the Bugles Krumbach
DTSTART:20260829T230000Z
END:VEVENT
END:VCALENDAR
An internal server error occurred.