BEGIN:VCALENDAR
VERSION:2.0
PRODID:-//hacksw/handcal//NONSGML v1.0//EN
CALSCALE:GREGORIAN
BEGIN:VEVENT
DTEND:20260424T230000Z
UID:69e75d61257a2
DTSTAMP:20260421T122001Z
LOCATION:94169 Thurmansbang

DESCRIPTION:
URL;VALUE=URI:
SUMMARY:Dreiburgenland Marathon
DTSTART:20260424T230000Z
END:VEVENT
END:VCALENDAR
An internal server error occurred.