BEGIN:VCALENDAR
VERSION:2.0
PRODID:-//hacksw/handcal//NONSGML v1.0//EN
CALSCALE:GREGORIAN
BEGIN:VEVENT
DTEND:20260418T230000Z
UID:69e5bee10d4a6
DTSTAMP:20260420T065129Z
LOCATION:5151 Nußdorf
DESCRIPTION:
URL;VALUE=URI:
SUMMARY:Oichtental Lauf
DTSTART:20260418T230000Z
END:VEVENT
END:VCALENDAR
An internal server error occurred.