BEGIN:VCALENDAR
VERSION:2.0
PRODID:-//hacksw/handcal//NONSGML v1.0//EN
CALSCALE:GREGORIAN
BEGIN:VEVENT
DTEND:20260430T230000Z
UID:69e5319308b8e
DTSTAMP:20260419T204835Z
LOCATION:99830 Treffurt 
DESCRIPTION:
URL;VALUE=URI:
SUMMARY:Werratal Marathon
DTSTART:20260430T230000Z
END:VEVENT
END:VCALENDAR
An internal server error occurred.