BEGIN:VCALENDAR
VERSION:2.0
PRODID:-//hacksw/handcal//NONSGML v1.0//EN
CALSCALE:GREGORIAN
BEGIN:VEVENT
DTEND:20261025T230000Z
UID:69e93d303f92d
DTSTAMP:20260422T222712Z
LOCATION:1020 Wien
DESCRIPTION:
URL;VALUE=URI:
SUMMARY:WienLäuft Lauffeiertag
DTSTART:20261025T230000Z
END:VEVENT
END:VCALENDAR
An internal server error occurred.