BEGIN:VCALENDAR
VERSION:2.0
PRODID:-//hacksw/handcal//NONSGML v1.0//EN
CALSCALE:GREGORIAN
BEGIN:VEVENT
DTEND:20260418T230000Z
UID:69e4d905d2a35
DTSTAMP:20260419T143045Z
LOCATION:73669 Lichtenwald-Hegenlohe
DESCRIPTION:
URL;VALUE=URI:
SUMMARY:Schurwald-Marathon
DTSTART:20260418T230000Z
END:VEVENT
END:VCALENDAR
An internal server error occurred.