BEGIN:VCALENDAR
VERSION:2.0
PRODID:-//hacksw/handcal//NONSGML v1.0//EN
CALSCALE:GREGORIAN
BEGIN:VEVENT
DTEND:20260502T230000Z
UID:69e4f27f6f0d9
DTSTAMP:20260419T161927Z
LOCATION:1998-010 Lissabon
DESCRIPTION:
URL;VALUE=URI:
SUMMARY:Hyrox Lissabon
DTSTART:20260430T230000Z
END:VEVENT
END:VCALENDAR
An internal server error occurred.