BEGIN:VCALENDAR
VERSION:2.0
PRODID:-//hacksw/handcal//NONSGML v1.0//EN
CALSCALE:GREGORIAN
BEGIN:VEVENT
DTEND:20260503T230000Z
UID:69e4f27d31c11
DTSTAMP:20260419T161925Z
LOCATION:CF10 1NS Cardiff
DESCRIPTION:
URL;VALUE=URI:
SUMMARY:Hyrox Cardiff
DTSTART:20260428T230000Z
END:VEVENT
END:VCALENDAR
An internal server error occurred.