BEGIN:VCALENDAR
VERSION:2.0
PRODID:-//hacksw/handcal//NONSGML v1.0//EN
CALSCALE:GREGORIAN
BEGIN:VEVENT
DTEND:20260424T230000Z
UID:69e8702f0f85a
DTSTAMP:20260422T075231Z
LOCATION:04329-900 São Paulo
DESCRIPTION:
URL;VALUE=URI:
SUMMARY:Hyrox São Paulo
DTSTART:20260424T230000Z
END:VEVENT
END:VCALENDAR
An internal server error occurred.