BEGIN:VCALENDAR
VERSION:2.0
PRODID:-//hacksw/handcal//NONSGML v1.0//EN
CALSCALE:GREGORIAN
BEGIN:VEVENT
DTEND:20260425T230000Z
UID:69e75d6553577
DTSTAMP:20260421T122005Z
LOCATION:75008 Paris
DESCRIPTION:
URL;VALUE=URI:
SUMMARY:Hyrox Paris
DTSTART:20260422T230000Z
END:VEVENT
END:VCALENDAR
An internal server error occurred.