BEGIN:VCALENDAR
VERSION:2.0
PRODID:-//hacksw/handcal//NONSGML v1.0//EN
CALSCALE:GREGORIAN
BEGIN:VEVENT
DTEND:20260418T230000Z
UID:69e4d36fadc5f
DTSTAMP:20260419T140655Z
LOCATION:29006 Malaga
DESCRIPTION:
URL;VALUE=URI:
SUMMARY:Hyrox Malaga
DTSTART:20260415T230000Z
END:VEVENT
END:VCALENDAR
An internal server error occurred.