BEGIN:VCALENDAR
VERSION:2.0
PRODID:-//hacksw/handcal//NONSGML v1.0//EN
CALSCALE:GREGORIAN
BEGIN:VEVENT
DTEND:20261010T230000Z
UID:69eabe8564ca4
DTSTAMP:20260424T015117Z
LOCATION:60616 Chicago

DESCRIPTION:
URL;VALUE=URI:
SUMMARY:Bank of America Chicago Marathon 
DTSTART:20261010T230000Z
END:VEVENT
END:VCALENDAR
An internal server error occurred.