BEGIN:VCALENDAR
VERSION:2.0
PRODID:-//hacksw/handcal//NONSGML v1.0//EN
CALSCALE:GREGORIAN
BEGIN:VEVENT
DTEND:20260926T230000Z
UID:69e6d3b1ce68c
DTSTAMP:20260421T023233Z
LOCATION:1000 Warschau
DESCRIPTION:
URL;VALUE=URI:
SUMMARY:Warschau Marathon 
DTSTART:20260926T230000Z
END:VEVENT
END:VCALENDAR
An internal server error occurred.