BEGIN:VCALENDAR
VERSION:2.0
PRODID:-//hacksw/handcal//NONSGML v1.0//EN
CALSCALE:GREGORIAN
BEGIN:VEVENT
DTEND:20260912T230000Z
UID:69e73ac8270ab
DTSTAMP:20260421T095224Z
LOCATION:67547 Worms
DESCRIPTION:
URL;VALUE=URI:
SUMMARY:Nibelungenlauf Worms
DTSTART:20260912T230000Z
END:VEVENT
END:VCALENDAR
An internal server error occurred.