BEGIN:VCALENDAR
VERSION:2.0
PRODID:-//hacksw/handcal//NONSGML v1.0//EN
CALSCALE:GREGORIAN
BEGIN:VEVENT
DTEND:20261104T230000Z
UID:69e7701811d9b
DTSTAMP:20260421T133952Z
LOCATION:50170 Sindorf
DESCRIPTION:
URL;VALUE=URI:
SUMMARY:Martinslauf Sindorf
DTSTART:20261104T230000Z
END:VEVENT
END:VCALENDAR
An internal server error occurred.